BEGIN:VCALENDAR
PRODID:NingEventWidget-v1
VERSION:2.0
METHOD:PUBLISH
BEGIN:VEVENT
UID:6442157:Event:76564
DTSTAMP:20260423T231602Z
SUMMARY:WBAI Radio Free Eireann
DESCRIPTION:On the radio Saturday at WBAI Radio Free Eireann at 1pm Ea
 stern Standard Time to talk about Republican issues and the historical
  novel coming out in a month: \"Light of the Diddicoy\"\nhttp://wbai.o
 rg/listen.php\n\nFor more information visit https://thewildgeese.irish
 /events/wbai-radio-free-eirann
DTSTART:20140206T210000Z
DTEND:20140207T200000Z
CATEGORIES:radio
LOCATION:WBAI Radio
WEBSITE:http://wbai.org/listen.php
URL:http://wbai.org/listen.php
CONTACT:(347) 903-2986
ORGANIZER:John McDonough and Sandy Boyer
ATTACH;FMTTYPE="image/jpeg":
ATTENDEE;ROLE=REQ-PARTICIPANT;PARTSTAT=ACCEPTED;RSVP=TRUE;CN="Eamon Lo
 ingsigh":https://thewildgeese.irish/profile/EamonLoingsigh
END:VEVENT
END:VCALENDAR
