BEGIN:VCALENDAR
PRODID:NingEventWidget-v1
VERSION:2.0
METHOD:PUBLISH
BEGIN:VEVENT
UID:6442157:Event:77621
DTSTAMP:20260423T105232Z
SUMMARY:War In The Shadows Book Launch All Welcome
DESCRIPTION:You are invited to the launch of my first book War In The 
 Shadows: The Irish-American Fenians Who Bombed Victorian Britain. The 
 Guest Speaker is former Hunger Striker Tommy McKierney. Please spread 
 the word to anyone whom you think maybe interested and invite them all
  are welcome. \n\nFor more information visit https://thewildgeese.ir
 ish/events/war-in-the-shadows-book-launch-all-welcome-2
DTSTART:20140221T003000Z
DTEND:20140221T023000Z
CATEGORIES:book, launch
LOCATION:The Teachers Club, 36 Parnell Square, Dublin.
WEBSITE:https://www.facebook.com/events/660052360718686/?ref_dashboard
 _filter=upcoming
URL:https://www.facebook.com/events/660052360718686/?ref_dashboard_fil
 ter=upcoming
CONTACT:
ORGANIZER:Irish Academic Press
ATTACH;FMTTYPE="image/jpeg":http://storage.ning.com/topology/rest/1.0/
 file/get/122487985?profile=original
ATTENDEE;ROLE=REQ-PARTICIPANT;PARTSTAT=ACCEPTED;RSVP=TRUE;CN="Shane Ke
 nna":https://thewildgeese.irish/profile/ShaneKenna
END:VEVENT
END:VCALENDAR
