BEGIN:VCALENDAR
PRODID:NingEventWidget-v1
VERSION:2.0
METHOD:PUBLISH
BEGIN:VEVENT
UID:6442157:Event:203004
DTSTAMP:20260422T001728Z
SUMMARY:\"To Sligo and Beyond...\"
DESCRIPTION:\"To Sligo and Beyond...\"A new exhibition of paintings by
  Fergus Lyons.from 29th October to 25th November 2016at Hyde Bridge Ga
 llery, Yeats Society, County Sligo.\nTel: +353 71 9666 091email info@f
 erguslyons.com\n\nFor more information visit https://thewildgeese.iris
 h/events/to-sligo-and-beyond
DTSTART:20161031T050000Z
DTEND:20161126T055900Z
CATEGORIES:exhibition, of, paintings, by, fergus, lyons
LOCATION:Sligo, Ireland
WEBSITE:http://www.ferguslyons.com/index.htm
URL:http://www.ferguslyons.com/index.htm
CONTACT:Tel: +353 71 9666 091
ORGANIZER;CN="Nollaig 2016":https://thewildgeese.irish/profile/Belinda
 Evangelista
ATTACH;FMTTYPE="image/jpeg":http://storage.ning.com/topology/rest/1.0/
 file/get/122516067?profile=original
ATTENDEE;ROLE=REQ-PARTICIPANT;PARTSTAT=ACCEPTED;RSVP=TRUE;CN="Nollaig 
 2016":https://thewildgeese.irish/profile/BelindaEvangelista
ATTENDEE;ROLE=REQ-PARTICIPANT;PARTSTAT=TENTATIVE;RSVP=TRUE;CN="Gerry R
 egan":https://thewildgeese.irish/profile/ger_regan
END:VEVENT
END:VCALENDAR
