BEGIN:VCALENDAR
PRODID:NingEventWidget-v1
VERSION:2.0
METHOD:PUBLISH
BEGIN:VEVENT
UID:6442157:Event:14551
DTSTAMP:20260423T215021Z
SUMMARY:Tir na nÓg Children's Festival
DESCRIPTION:NY Irish Center's  two-week celebration of Irish Roots, C
 ulture, Heritage and Arts, Workshops in Dancing, Mythological Drama, T
 inwhistle and Irish Visual Arts.\n\n\n\n\n\n\n\n\n\nFor more informati
 on visit https://thewildgeese.irish/events/tir-na-nog-children-s-festi
 val
DTSTART:20130715T150000Z
DTEND:20130726T210000Z
CATEGORIES:festival
LOCATION:NY Irish Ctr.
WEBSITE:
URL:
CONTACT:
ORGANIZER:New York Irish Center
ATTACH;FMTTYPE="image/jpeg":http://storage.ning.com/topology/rest/1.0/
 file/get/122474526?profile=original
ATTENDEE;ROLE=REQ-PARTICIPANT;PARTSTAT=ACCEPTED;RSVP=TRUE;CN="Maryann 
  Tracy":https://thewildgeese.irish/profile/MaryannTracy
ATTENDEE;ROLE=REQ-PARTICIPANT;PARTSTAT=TENTATIVE;RSVP=TRUE;CN="Gerry R
 egan":https://thewildgeese.irish/profile/ger_regan
END:VEVENT
END:VCALENDAR
