BEGIN:VCALENDAR
PRODID:NingEventWidget-v1
VERSION:2.0
METHOD:PUBLISH
BEGIN:VEVENT
UID:6442157:Event:120106
DTSTAMP:20260419T141658Z
SUMMARY:The McGowan Trilogy
DESCRIPTION:The McGowan Trilogy plays - part of First Irish Festival -
  7 pm at the cell theater\nUse CODE IRISH for $15 here www.brownpapert
 ickets.com/event/788391\n\nFor more information visit https://thewildg
 eese.irish/events/the-mcgowan-trilogy
DTSTART:20140926T000000Z
DTEND:20141006T020000Z
CATEGORIES:plays
LOCATION:the cell theater
WEBSITE:http://www.thecelltheatre.org/
URL:http://www.thecelltheatre.org/
CONTACT:(646) 861-2253
ORGANIZER;CN="seamus scanlon":https://thewildgeese.irish/profile/seamu
 sscanlon
ATTACH;FMTTYPE="image/jpeg":http://storage.ning.com/topology/rest/1.0/
 file/get/122495496?profile=original
ATTENDEE;ROLE=REQ-PARTICIPANT;PARTSTAT=ACCEPTED;RSVP=TRUE;CN="Gerry Re
 gan":https://thewildgeese.irish/profile/ger_regan
ATTENDEE;ROLE=REQ-PARTICIPANT;PARTSTAT=ACCEPTED;RSVP=TRUE;CN="seamus s
 canlon":https://thewildgeese.irish/profile/seamusscanlon
END:VEVENT
END:VCALENDAR
