BEGIN:VCALENDAR
PRODID:NingEventWidget-v1
VERSION:2.0
METHOD:PUBLISH
BEGIN:VEVENT
UID:6442157:Event:233792
DTSTAMP:20260420T203542Z
SUMMARY:The Long Ride
DESCRIPTION:\n\nFor more information visit https://thewildgeese.irish/
 events/the-long-ride
DTSTART:20180721T180000Z
DTEND:20180721T200000Z
CATEGORIES:film, festival, screening
LOCATION:Producers' Club, 358 W 44th St, New York
WEBSITE:
URL:
CONTACT:
ORGANIZER;CN="Valerie Lapin Ganley":https://thewildgeese.irish/profile
 /ValerieLapinGanley
ATTACH;FMTTYPE="image/jpeg":http://storage.ning.com/topology/rest/1.0/
 file/get/122519899?profile=original
ATTENDEE;ROLE=REQ-PARTICIPANT;PARTSTAT=ACCEPTED;RSVP=TRUE;CN="Valerie 
 Lapin Ganley":https://thewildgeese.irish/profile/ValerieLapinGanley
END:VEVENT
END:VCALENDAR
