BEGIN:VCALENDAR
PRODID:NingEventWidget-v1
VERSION:2.0
METHOD:PUBLISH
BEGIN:VEVENT
UID:6442157:Event:188854
DTSTAMP:20260421T075951Z
SUMMARY:The John Holland Centennial Party @ Biricchino in NYC.
DESCRIPTION:We have offered both low key events and a major production
  like BEFORE THE CRASH. We have also become affiliated with Fractured 
 Atlas as our 501(C)3 affiliate in NYC. These outreach efforts have inc
 luded the Theatre Development Fund; The Newark Library; St Lucy's Chur
 ch, and cross-promoting Irish-American colleagues celebrating the Cent
 ennial of the 1916 Irish Revolt on this Month. We also are planning a 
 June fundraiser @ Biricchino in NYC.\nWe are also featuring Paterson U
 n Corked in Rhode Island to celebrate the Centennial of John Holland. 
 Holland also submerged and piloted a prototype of the submarine in the
  Passaic River near the Paterson Falls. The submarine remains on displ
 ay in the Paterson Museum. Holland was also a Christian Brother, whose
  name carries the Holland Tunnel, and Cork the City of his birth.\n\nF
 or more information visit https://thewildgeese.irish/events/the-john-h
 olland-centennial-party-biricchino-in-nyc
DTSTART:20160608T230000Z
DTEND:20160609T020000Z
CATEGORIES:fundrtaiser, for, daniel, p, quinn, and, "www.fracturedatla
 s.org"
LOCATION:Biricchino
WEBSITE:
URL:
CONTACT:862-208-0151
ORGANIZER;CN="Daniel P Quinn":https://thewildgeese.irish/profile/Danie
 lPQuinn
ATTACH;FMTTYPE="image/jpeg":
ATTENDEE;ROLE=REQ-PARTICIPANT;PARTSTAT=ACCEPTED;RSVP=TRUE;CN="Daniel P
  Quinn":https://thewildgeese.irish/profile/DanielPQuinn
END:VEVENT
END:VCALENDAR
