BEGIN:VCALENDAR
PRODID:NingEventWidget-v1
VERSION:2.0
METHOD:PUBLISH
BEGIN:VEVENT
UID:6442157:Event:57049
DTSTAMP:20260423T121455Z
SUMMARY:“THE IRISH SITUATION” Looking at Modern & Contemporary Iri
 sh Art in Context
DESCRIPTION:The Irish History Round Table Presents: “THE IRISH SITUA
 TION” Looking at Modern & Contemporary Irish Art in ContextA free an
 d Public lecture by Sarah Churchill, M.Phil in Irish Art History, Trin
 ity College DublinTHE GREAT HUNGER. EASTER RISING. EMIGRATION….Irela
 nd is an island shaped by centuries of foreign occupation, devastating
  famine, civil war and economic instability. And yet, in spite (or per
 haps, because) of these obstacles, the country has enjoyed a flourishi
 ng, though underexplored, visual arts culture. Join us as we examine t
 he political, psychological and sociological effects of Irish history 
 on its modern and contemporary art.\n\nFor more information visit http
 s://thewildgeese.irish/events/the-irish-situation-looking-at-modern-co
 ntemporary-irish-art-in
DTSTART:20131120T013000Z
DTEND:20131120T023000Z
CATEGORIES:lecture, irish, art
LOCATION:Knights of St. Patrick Hall
WEBSITE:http://www.irishhistoryroundtable.org/upcoming.html
URL:http://www.irishhistoryroundtable.org/upcoming.html
CONTACT:2038931511
ORGANIZER;CN="Sarah Churchill":https://thewildgeese.irish/profile/Sara
 hChurchill
ATTACH;FMTTYPE="image/jpeg":
ATTENDEE;ROLE=REQ-PARTICIPANT;PARTSTAT=ACCEPTED;RSVP=TRUE;CN="Sarah Ch
 urchill":https://thewildgeese.irish/profile/SarahChurchill
END:VEVENT
END:VCALENDAR
