BEGIN:VCALENDAR
PRODID:NingEventWidget-v1
VERSION:2.0
METHOD:PUBLISH
BEGIN:VEVENT
UID:6442157:Event:173064
DTSTAMP:20260423T145047Z
SUMMARY:The Irish Christmas Fair
DESCRIPTION:The Irish Christmas Fair\nSunday, November 15, 2015\n10:00
  AM to 4:00 PM\nAt\nThe Irish American Center\n297 Willis Avenue, Mine
 ola, New York 11501\n$20 Cover per person\nGreat vendors with a multit
 ude of different items to help with your Christmas shopping.\nKitchen 
 will be serving Irish Breakfasts, Hamburgers, Hot Dogs, Scones, Tea, C
 offee and much more.\nLive entertainment. The Bar will be open for you
 r pleasure.\nFor Information call the Center, Monday to Friday - 9:30 
 AM to 1:00 PM at 516-746-9392 or 516-742-8080\nChaired By: Betty McLou
 ghlin, Mary Mikowski & Committee\n\nFor more information visit https:/
 /thewildgeese.irish/events/the-irish-christmas-fair
DTSTART:20151115T160000Z
DTEND:20151115T220000Z
CATEGORIES:"christmas fair"
LOCATION:Irish American Society of Nassau, Suffolk, and Queens
WEBSITE:http://www.irishamericansoc.com/
URL:http://www.irishamericansoc.com/
CONTACT:516-746-9392
ORGANIZER:Irish American Society of Nassau, Suffolk, and Queens
ATTACH;FMTTYPE="image/jpeg":http://storage.ning.com/topology/rest/1.0/
 file/get/122509644?profile=original
ATTENDEE;ROLE=REQ-PARTICIPANT;PARTSTAT=ACCEPTED;RSVP=TRUE;CN="William 
 Lee":https://thewildgeese.irish/profile/WilliamLee
END:VEVENT
END:VCALENDAR
