BEGIN:VCALENDAR
PRODID:NingEventWidget-v1
VERSION:2.0
METHOD:PUBLISH
BEGIN:VEVENT
UID:6442157:Event:223144
DTSTAMP:20260422T021604Z
SUMMARY:The Dead, 1904
DESCRIPTION:James Joyce’s novella, “The Dead,” describes a holid
 ay gathering on January 6,1904, the Feast of the Epiphany, in the Dubl
 in home of two elderly sisters, Kate and Julia Morkan, and their niece
 , Mary Jane. At the party are students, friends, a celebrated tenor, a
  lost alcoholic, and the couple, Gabriel and Gretta Conroy. Over the c
 ourse of an evening, there are conversations, music, dancing and dinin
 g. There are speeches and disagreements – polite and impolite – an
 d when it is all over Gabriel learns something about his wife that cha
 nges his sense of who she is and who they are to each other, of what i
 t actually means to be alive, and to be dead.\nThe Dead,1904 is a new 
 adaptation in which an audience of 55 guests will themselves attend th
 e Misses Morkan’s holiday party, move from room to room with the act
 ors, listen to the music, watch the dances, dine on a meal inspired by
  the menu in the novella, and observe the characters in their interact
 ions. The production will take place in an authentic Victorian mansion
 , perfectly evoking the atmosphere of the story. At each performance, 
 premium ticket holders will be seated with the actors, to truly experi
 ence the famous dinner scene from within\n“an unusually sparkling af
 fair… you are not likely to attend a holiday gathering in a more sum
 ptuous setting this season. –The New York Times\n “a holiday trea
 t, full of songs and high spirits” –The New Yorker\nTuesday at 7:0
 0 Wednesday at 8:00\nThursday at 7:00\nFriday at 8:00\nSaturday at 5 &
  8:30\nSunday at 7:00\n\nFor more information visit https://thewildgee
 se.irish/events/the-dead-1904
DTSTART:20171119T020000Z
DTEND:20180108T040000Z
CATEGORIES:performing, arts, theater, theatre, dinner, performance
LOCATION:American Irish Historical Society
WEBSITE:https://irishrep.org/show/2017-2018-season/the-dead-1904-2/
URL:https://irishrep.org/show/2017-2018-season/the-dead-1904-2/
CONTACT:2127272737
ORGANIZER;CN="The Irish Repertory Theatre":https://thewildgeese.irish/
 profile/TheIrishRepertoryTheatre
ATTACH;FMTTYPE="image/jpeg":
ATTENDEE;ROLE=REQ-PARTICIPANT;PARTSTAT=ACCEPTED;RSVP=TRUE;CN="The Iris
 h Repertory Theatre":https://thewildgeese.irish/profile/TheIrishRepert
 oryTheatre
END:VEVENT
END:VCALENDAR
