BEGIN:VCALENDAR
PRODID:NingEventWidget-v1
VERSION:2.0
METHOD:PUBLISH
BEGIN:VEVENT
UID:6442157:Event:166262
DTSTAMP:20260421T231923Z
SUMMARY:The Cormack Brothers film screening
DESCRIPTION:Film Screening at Slattery's  mid town pub \nSaturday 1s
 t August 8pm \nAnd\nFriday 7th August 9pm\n\nof the Cormack Brothers 
 (110 mins) filmed in Ireland, telling the true story of 2 brothers han
 ged for murder in 1858.   Introduction and q+a with writer/director. 
  \n\nSlatterys  8 E 36 street \n\nFor more information visit https:
 //thewildgeese.irish/events/the-cormack-brothers-film-screening
DTSTART:20150802T003000Z
DTEND:20150808T023000Z
CATEGORIES:promotional, film, screening
LOCATION:Slattery's midtown 8th E 36th
WEBSITE:http://maps.google.co.uk/maps?oe=UTF-8&hl=en&client=safari&um=
 1&ie=UTF-8&fb=1&gl=uk&sll=40.7492341,-73.9830179&sspn=0.0002136,0.0003
 759&q=slattery's+nyc
URL:http://maps.google.co.uk/maps?oe=UTF-8&hl=en&client=safari&um=1&ie
 =UTF-8&fb=1&gl=uk&sll=40.7492341,-73.9830179&sspn=0.0002136,0.0003759&
 q=slattery's+nyc
CONTACT:
ORGANIZER;CN="Alan Brown":https://thewildgeese.irish/profile/AlanBrown
ATTACH;FMTTYPE="image/jpeg":
ATTENDEE;ROLE=REQ-PARTICIPANT;PARTSTAT=ACCEPTED;RSVP=TRUE;CN="Alan Bro
 wn":https://thewildgeese.irish/profile/AlanBrown
END:VEVENT
END:VCALENDAR
