BEGIN:VCALENDAR
PRODID:NingEventWidget-v1
VERSION:2.0
METHOD:PUBLISH
BEGIN:VEVENT
UID:6442157:Event:193015
DTSTAMP:20260421T051606Z
SUMMARY:The Celtic Cruise
DESCRIPTION:Mark your Calendars for the Celtic Cruise.  Tickets are $
 100 each if purchased prior to the sailing date of June 8th . It is a 
 great night full of good music, food, drink and laughter. \nThis annu
 al event brings together 600 Irish and Irish Americans from the tri-st
 ate area in the beautiful New York Harbor for a night in celebration o
 f Irish heritage and culture.  One of the best nights out of the year
 , the Spirt of New York departs from Pier 61 on June 8th 2016 with the
  party starting from 6pm - 10:30 pm.  The ticket included a 4 ½ hour
 s open Bar, unlimited buffet menu.  The Early Bird sign up $100 (limi
 ted time offer).\nThe proceeds of the event will support the vital wor
 k of  the Emerald Isle Immigration Center  in assisting immigrants a
 nd supporting those on the margins of our Community.  Since its found
 ation in 1988, the Center has served the most vulnerable immigrants, p
 roviding legal services, senior programs and comprehensive social serv
 ices to the Tristate area.  Over its nearly thirty years in operation
 , Emerald Isle has worked to ease the pressure of immigration and to i
 mprove the position of thousands of immigrants.  Current programs inc
 lude daily delivery of meals to seniors, ESL classes and increased edu
 cation and employment programs.\n \nIf you wish to purchase tickets, 
 you can do so at www.celticcharity.com or call 212-717-9955.\n\nFor mo
 re information visit https://thewildgeese.irish/events/the-celtic-crui
 se
DTSTART:20160608T230000Z
DTEND:20160609T033000Z
CATEGORIES:fundraiser
LOCATION:Chelsea Piers, Spirit of New York
WEBSITE:http://www.celticcharity.com
URL:http://www.celticcharity.com
CONTACT:212-717-9955
ORGANIZER:Celtic Charity
ATTACH;FMTTYPE="image/jpeg":http://storage.ning.com/topology/rest/1.0/
 file/get/122513862?profile=original
ATTENDEE;ROLE=REQ-PARTICIPANT;PARTSTAT=ACCEPTED;RSVP=TRUE;CN="William 
 Lee":https://thewildgeese.irish/profile/WilliamLee
END:VEVENT
END:VCALENDAR
