BEGIN:VCALENDAR
PRODID:NingEventWidget-v1
VERSION:2.0
METHOD:PUBLISH
BEGIN:VEVENT
UID:6442157:Event:185087
DTSTAMP:20260420T045911Z
SUMMARY:The Annual County Leitrim Society of New York St. Patrick's Da
 nce
DESCRIPTION:The Annual County Leitrim Society of New York St. Patrick'
 s Dance is getting close. Please join us on Friday, March 11 th at Ant
 un's of Queens Village, 96-43 Springfield Blvd, Queens Village, NY 114
 29. Deluxe Cocktail hour begins at 8:00 PM followed by dinner and danc
 ing to Tommy Flynn Band. Tickets are $90.00 each.\nFor Reservations pl
 ease call Noeleen Bohan McGovern at (914) 693-7592. If you would like 
 to place an Ad in the journal call Frank Brady at (914) 963-8729. Pre.
 .. payment for dance tickets is requested. Please make checks payable 
 to County Leitrim Society of NY and return to Noeleen Bohan McGovern, 
 45 Southfield Ave, Dobbs Ferry, NY 10522 before March 8th.\nFor more d
 etails, please visit their website.\nhttp://www.leitrimsocietyofny.com
 /index.html\n\n\n\nFor more information visit https://thewildgeese.iri
 sh/events/the-annual-county-leitrim-society-of-new-york-st-patrick-s-d
 ance
DTSTART:20160312T020000Z
DTEND:20160312T190000Z
CATEGORIES:"dinner dance"
LOCATION:Antun's of Queen's Village
WEBSITE:http://antuns.com/
URL:http://antuns.com/
CONTACT:(914) 693-7592
ORGANIZER:The County Leitrim Society of New York
ATTACH;FMTTYPE="image/jpeg":http://storage.ning.com/topology/rest/1.0/
 file/get/122512613?profile=original
ATTENDEE;ROLE=REQ-PARTICIPANT;PARTSTAT=ACCEPTED;RSVP=TRUE;CN="William 
 Lee":https://thewildgeese.irish/profile/WilliamLee
END:VEVENT
END:VCALENDAR
