BEGIN:VCALENDAR
PRODID:NingEventWidget-v1
VERSION:2.0
METHOD:PUBLISH
BEGIN:VEVENT
UID:6442157:Event:185073
DTSTAMP:20260425T103736Z
SUMMARY:The American Ireland Fund | New York Young Leaders St. Patrick
 's Celebration
DESCRIPTION:The American Ireland Fund | New York Young Leaders  St. Pa
 trick's Celebration  Thursday, March 10th, 2016  4 hour open bar, hors
  d’oeuvres and food stations.  7PM-11PM  At Espace, 635 W. 42nd (bet
 ween 11th and 12th Aves) ... The first 300 people to purchase tickets 
 will have their names automatically entered into a raffle for a trip f
 or two to Dublin on Delta Air Lines with two nights at the Merrion Hot
 el.  – Drawing will be live on stage at the event on March 10th.  Ti
 cket Prices:  Individual ticket for Young Leader members: $160  Non Me
 mbers $180  “Circle of Friends” package of ten (10) tickets: $1,50
 0 (*if you purchase within the first 300 tickets, you will get 10 entr
 ies into the Delta Air Lines Raffle)  Buy Tickets online at\nhttp://th
 eirelandfunds.org/upcoming-events/id.837/title.New-York-Young-Leaders-
 St-Patricks-Celebration-2016  Live music all night long.  VIP and spon
 sorship packages available. For more information and how to join the e
 vent committee, contact Pat Tully ptully@irlfunds.org\n\nFor more info
 rmation visit https://thewildgeese.irish/events/the-american-ireland-f
 und-new-york-young-leaders-st-patrick-s
DTSTART:20160311T010000Z
DTEND:20160311T050000Z
CATEGORIES:fundraiser
LOCATION:Espace
WEBSITE:http://www.espaceny.com/
URL:http://www.espaceny.com/
CONTACT:212-689-3100
ORGANIZER:The American Ireland Fund
ATTACH;FMTTYPE="image/jpeg":http://storage.ning.com/topology/rest/1.0/
 file/get/122512520?profile=original
ATTENDEE;ROLE=REQ-PARTICIPANT;PARTSTAT=ACCEPTED;RSVP=TRUE;CN="William 
 Lee":https://thewildgeese.irish/profile/WilliamLee
END:VEVENT
END:VCALENDAR
