BEGIN:VCALENDAR
PRODID:NingEventWidget-v1
VERSION:2.0
METHOD:PUBLISH
BEGIN:VEVENT
UID:6442157:Event:64521
DTSTAMP:20260423T215206Z
SUMMARY:TARA THE GAME at Clonakilty International Games Festival 2014!
DESCRIPTION:http://www.irishexaminer.com/ireland/roll-the-dice-for-ire
 lands-first-board-game-festival\nClonakilty International Games Festiv
 al 2014!\nFriday 7th - Sunday 9th February 2014\n\nhttp://www.tailteng
 ames.com/contact.html\n\n\nFor more information visit https://thewildg
 eese.irish/events/tara-the-game-at-clonakilty-international-games-fest
 ival-2014
DTSTART:20140208T000000Z
DTEND:20140209T230000Z
CATEGORIES:games, festival
LOCATION:Emmet Hotel
WEBSITE:http://www.clonakiltygamesfestival.com/p/programme_28.html
URL:http://www.clonakiltygamesfestival.com/p/programme_28.html
CONTACT:
ORGANIZER:clonakiltygamesfestival@gmail.com
ATTACH;FMTTYPE="image/jpeg":http://storage.ning.com/topology/rest/1.0/
 file/get/122484481?profile=original
ATTENDEE;ROLE=REQ-PARTICIPANT;PARTSTAT=ACCEPTED;RSVP=TRUE;CN="Murray H
 easman":https://thewildgeese.irish/profile/MurrayHeasman
ATTENDEE;ROLE=REQ-PARTICIPANT;PARTSTAT=ACCEPTED;RSVP=TRUE;CN="Nollaig 
 2016":https://thewildgeese.irish/profile/BelindaEvangelista
END:VEVENT
END:VCALENDAR
