BEGIN:VCALENDAR
PRODID:NingEventWidget-v1
VERSION:2.0
METHOD:PUBLISH
BEGIN:VEVENT
UID:6442157:Event:147520
DTSTAMP:20260420T235241Z
SUMMARY:St Patrick's Day Draw Shamrock Earrings
DESCRIPTION:Subscribe to our Newsletter to enter our St. Patrick's Da
 y draw to be in with a chance to win this beautiful pair of Shamrock E
 arrings handcrafted from a very light shading of Connemara Marble, whi
 ch is unique to Ireland.  Enter Here\n\nOften called Ireland's nation
 al gemstone, Connemara Marble is a traditional gift of friendship. Con
 nemara Marble is one of the rarest marbles in the world and is found e
 xclusively in the West of Ireland, it is the world's finest green marb
 le varying in colour from creamy pale green to shades of sage and moss
 .\n\nFor more information visit https://thewildgeese.irish/events/st-p
 atrick-s-day-draw-shamrock-earrings
DTSTART:20150318T020000Z
DTEND:20150318T030000Z
CATEGORIES:"st.", "patrick's", day, draw
LOCATION:Dublin
WEBSITE:http://www.totallyirishgifts.com
URL:http://www.totallyirishgifts.com
CONTACT:
ORGANIZER;CN="Totally Irish Gifts":https://thewildgeese.irish/profile/
 TotallyIrishGifts
ATTACH;FMTTYPE="image/jpeg":http://storage.ning.com/topology/rest/1.0/
 file/get/122502536?profile=original
ATTENDEE;ROLE=REQ-PARTICIPANT;PARTSTAT=ACCEPTED;RSVP=TRUE;CN="Ron Redm
 ond":https://thewildgeese.irish/profile/RonRedmond
ATTENDEE;ROLE=REQ-PARTICIPANT;PARTSTAT=ACCEPTED;RSVP=TRUE;CN="Totally 
 Irish Gifts":https://thewildgeese.irish/profile/TotallyIrishGifts
END:VEVENT
END:VCALENDAR
