BEGIN:VCALENDAR
PRODID:NingEventWidget-v1
VERSION:2.0
METHOD:PUBLISH
BEGIN:VEVENT
UID:6442157:Event:149726
DTSTAMP:20260420T222054Z
SUMMARY:Sober St. Patrick's Day® NYC - Reclaim the Day!
DESCRIPTION:The Ultimate Family-Friendly Party on St. Patrick’s Day\
 n“Reclaiming the true spirit of the day!”\nThe 4th Annual Sober St
 . Patrick’s Day® NYC Event\n“Come away with us to Tír na nÓg, t
 he mystical, magical land of the young”\n\nFor more information visi
 t https://thewildgeese.irish/events/sober-st-patrick-s-day-nyc-reclaim
 -the-day
DTSTART:20150317T210000Z
DTEND:20150318T010000Z
CATEGORIES:"st.", "patrick's", day, "celebration."
LOCATION:Cathedral High School
WEBSITE:http://www.soberstpatricksday.org/
URL:http://www.soberstpatricksday.org/
CONTACT:347-SOBER17
ORGANIZER:Sober St. Patrick's Day
ATTACH;FMTTYPE="image/jpeg":http://storage.ning.com/topology/rest/1.0/
 file/get/122502968?profile=original
ATTENDEE;ROLE=REQ-PARTICIPANT;PARTSTAT=ACCEPTED;RSVP=TRUE;CN="The Wild
  Geese":https://thewildgeese.irish/profile/TheWildGeese
END:VEVENT
END:VCALENDAR
