BEGIN:VCALENDAR
PRODID:NingEventWidget-v1
VERSION:2.0
METHOD:PUBLISH
BEGIN:VEVENT
UID:6442157:Event:188821
DTSTAMP:20260421T063727Z
SUMMARY:Shining City
DESCRIPTION:Shining City is a haunting play, dense with urban lives th
 at brush against one another while never making contact. When the char
 acter John is first introduced, he is seeking help from Ian, a counsel
 or, after the unexpected death of his wife. Though shaken by the loss,
  John is troubled by more than just grief; he has begun to see his wif
 e’s ghost in their home.\nAs their sessions unfold, secrets and lies
  are exposed in this thriller where a simple tale turns out to be anyt
 hing but. Shining City reflects on the guilt, anxiety and restlessness
  of two lonely men creating a tale that the New York Times calls “as
  close to perfection as contemporary playwriting gets.”\n\nFor more 
 information visit https://thewildgeese.irish/events/shining-city
DTSTART:20160518T000000Z
DTEND:20160703T213000Z
CATEGORIES:"theatre:", off, broadway
LOCATION:The Irish Repertory Theatre
WEBSITE:http://www.irishrep.org/shiningcity.html
URL:http://www.irishrep.org/shiningcity.html
CONTACT:2127272737
ORGANIZER;CN="The Irish Repertory Theatre":https://thewildgeese.irish/
 profile/TheIrishRepertoryTheatre
ATTACH;FMTTYPE="image/jpeg":http://storage.ning.com/topology/rest/1.0/
 file/get/122513578?profile=original
ATTENDEE;ROLE=REQ-PARTICIPANT;PARTSTAT=ACCEPTED;RSVP=TRUE;CN="Gerry Re
 gan":https://thewildgeese.irish/profile/ger_regan
ATTENDEE;ROLE=REQ-PARTICIPANT;PARTSTAT=ACCEPTED;RSVP=TRUE;CN="The Iris
 h Repertory Theatre":https://thewildgeese.irish/profile/TheIrishRepert
 oryTheatre
END:VEVENT
END:VCALENDAR
