BEGIN:VCALENDAR
PRODID:NingEventWidget-v1
VERSION:2.0
METHOD:PUBLISH
BEGIN:VEVENT
UID:6442157:Event:184316
DTSTAMP:20260425T084008Z
SUMMARY:Shalom Ireland Screening in Sharon, Massachusetts
DESCRIPTION:Shalom Ireland, is a film about Ireland's Jews, their his
 tory, culture and important role in the fight for Irish freedom and th
 e establishment of the State of Israel.  The screening will be follow
 ed by a talk with David Briscoe, grandson of Robert Briscoe, the first
  Jewish Lord Mayor of Dublin, and the film's Director Valerie Lapin Ga
 nley. \n\nFor more information visit https://thewildgeese.irish/event
 s/shalom-ireland-screening-in-sharon-massachusetts
DTSTART:20160229T010000Z
DTEND:20160229T030000Z
CATEGORIES:film, screening
LOCATION:Temple Israel
WEBSITE:http://www.tisharon.org/events-all/2016/1/25/shalom-ireland
URL:http://www.tisharon.org/events-all/2016/1/25/shalom-ireland
CONTACT:(617) 461-7323
ORGANIZER:Michael Getz
ATTACH;FMTTYPE="image/jpeg":http://storage.ning.com/topology/rest/1.0/
 file/get/122512437?profile=original
ATTENDEE;ROLE=REQ-PARTICIPANT;PARTSTAT=ACCEPTED;RSVP=TRUE;CN="Valerie 
 Lapin Ganley":https://thewildgeese.irish/profile/ValerieLapinGanley
END:VEVENT
END:VCALENDAR
