BEGIN:VCALENDAR
PRODID:NingEventWidget-v1
VERSION:2.0
METHOD:PUBLISH
BEGIN:VEVENT
UID:6442157:Event:48034
DTSTAMP:20260423T170940Z
SUMMARY:Seamus Heaney Tribute at the Irish Cultural Society Meeting
DESCRIPTION:The Irish Cultural Society will devote its October 16, 201
 3 meeting to the poetry of Seamus Heaney.  The guest speaker will  b
 e  Dr. Linda Opyr.  Dr. Opyr was the Poet Laureate for the County of
  Nassau from 2011-2013  She has had seven volumes of her poetry publi
 shed, and her poems have been anthologized and printed in The New York
  Times, The Hudson Review, The Atlantic Review and The Paterson Litera
 ry Review.  Dr. Opyr will bring her audience to appreciate the greatn
 ess in Seamus Heaney's poetry which led to his winning the Noble Prize
  in Literature in 1995.  She will also read the poem she was commissi
 oned to write by the National Park Service for the 50th anniversary of
  John F. Kennedy's designation of Theodore Roosevelt's Sagamore Hill a
 s a National Park.  \n \n\nFor more information visit https://thewi
 ldgeese.irish/events/seamus-heaney-tribute-at-the-irish-cultural-soiet
 y-meeting
DTSTART:20131017T003000Z
DTEND:20131017T020000Z
CATEGORIES:poetry, reading, tribute, to, an, irish, poet
LOCATION:Garden City Library
WEBSITE:http://www.irish-society.org
URL:http://www.irish-society.org
CONTACT:516.488.1353
ORGANIZER;CN="Irish Cultural Society of GC":https://thewildgeese.irish
 /profile/IrishCulturalSocietyofGC
ATTACH;FMTTYPE="image/jpeg":http://storage.ning.com/topology/rest/1.0/
 file/get/122482688?profile=original
ATTENDEE;ROLE=REQ-PARTICIPANT;PARTSTAT=ACCEPTED;RSVP=TRUE;CN="Irish Cu
 ltural Society of GC":https://thewildgeese.irish/profile/IrishCultural
 SocietyofGC
ATTENDEE;ROLE=REQ-PARTICIPANT;PARTSTAT=ACCEPTED;RSVP=TRUE;CN="Gerry Re
 gan":https://thewildgeese.irish/profile/ger_regan
END:VEVENT
END:VCALENDAR
