BEGIN:VCALENDAR
PRODID:NingEventWidget-v1
VERSION:2.0
METHOD:PUBLISH
BEGIN:VEVENT
UID:6442157:Event:79663
DTSTAMP:20260423T092021Z
SUMMARY:Seachtain na Gaeilge 2014
DESCRIPTION:Seachtain na Gaeilge (Irish Language Week) is an internati
 onal Irish language festival and one of the biggest celebrations of ou
 r native language and culture that takes place each year in Ireland an
 d in many other countries.\nThis yearâ€™s festival is running from 1 â
 €“ 17 March 2014.\nThe festival gives an opportunity to everyone to en
 joy Irish, whether you are a fluent speaker, learner or have a cÃºpla 
 focal, with a calendar of entertaining and fun events for every type o
 f interest and every age group.\nVoluntary and community groups, local
  authorities, schools, libraries, and music, sports, arts and culture 
 organisations organise events for Seachtain na Gaeilge in their local 
 area.\nIrish is for everyone, Seachtain na Gaeilge is for everyone â€“
 Â CroÃ­ na Teanga, Itâ€™s You!\nVisit the Seachtain na Gaeilge website
 Â for more information including a full events listing.Â Â \n\nFor mor
 e information visit https://thewildgeese.irish/events/seachtain-na-gae
 ilge-2014
DTSTART:20140301T060000Z
DTEND:20140318T045900Z
CATEGORIES:festival
LOCATION:Ireland ... countrywide
WEBSITE:http://snag.ie/en/
URL:http://snag.ie/en/
CONTACT:
ORGANIZER;CN="Ryan O'Rourke":https://thewildgeese.irish/profile/RyanOR
 ourke
ATTACH;FMTTYPE="image/jpeg":http://storage.ning.com/topology/rest/1.0/
 file/get/122488416?profile=original
ATTENDEE;ROLE=REQ-PARTICIPANT;PARTSTAT=ACCEPTED;RSVP=TRUE;CN="Ryan O'R
 ourke":https://thewildgeese.irish/profile/RyanORourke
END:VEVENT
END:VCALENDAR
