BEGIN:VCALENDAR
PRODID:NingEventWidget-v1
VERSION:2.0
METHOD:PUBLISH
BEGIN:VEVENT
UID:6442157:Event:210912
DTSTAMP:20260424T011202Z
SUMMARY:Reading of  King Of Greenpoint
DESCRIPTION:Until his death in 1948, Peter McGuinness personified Tamm
 any Hall for the residents of Greenpoint (a stupendously polluted, ind
 ustrial neighborhood of Brooklyn). If your family was missing meals, M
 cGuinness reached into his foot-long wallet and pulled out cash to buy
  you groceries. He found you a patronage job. He knew your name. Commu
 nity historian Geoffrey Cobb brings the six-foot, 270-pound lumber-han
 dler, amateur boxer, New York City alderman and Democratic Party polit
 ical boss -- and the neighborhood of Greenpoint (which McGuinness alwa
 ys called “the Garden Spot”) -- vividly to life.As a ward heeler, 
 McGuinness was phenomenally adept at “turning out the vote.” (He f
 irst proved it at age 10, expertly taking the place of an ailing block
  captain. Thirty-five years later, in 1933, McGuinness’s Democratic 
 club voted 80:1 to repudiate Prohibition.) But McGuinness wasn’t jus
 t a ward heeler. He delivered tangible benefits for constituents. He p
 reserved ferry service for them -- to Manhattan (just across the East 
 River) -- until he could get a subway routed through Greenpoint to tak
 e its place. And in 1936, McGuinness brought joy to Greenpoint. The 33
 0’ x 165’ public pool he inveigled the W.P.A. to build, could acco
 mmodate 6,800 swimmers on a hot summer’s day. Geoffrey Cobb serves u
 p an often hilarious, always thought-provoking case study of a larger-
 than-life 20th century Irish American urban political chieftan, The Ki
 ng of Greenpoint, Peter J. McGuinness, the Amazing Story of Greenpoint
 ’s Most Colorful Character.\n\nFor more information visit https://th
 ewildgeese.irish/events/reading-of-king-of-greenpoint
DTSTART:20170103T000000Z
DTEND:20170103T010000Z
CATEGORIES:reading
LOCATION:Irish Center
WEBSITE:https://www.facebook.com/events/652149298290778/
URL:https://www.facebook.com/events/652149298290778/
CONTACT:
ORGANIZER;CN="Geoffrey Cobb":https://thewildgeese.irish/profile/Geoffr
 eyCobb
ATTACH;FMTTYPE="image/jpeg":http://storage.ning.com/topology/rest/1.0/
 file/get/122516883?profile=original
ATTENDEE;ROLE=REQ-PARTICIPANT;PARTSTAT=ACCEPTED;RSVP=TRUE;CN="Geoffrey
  Cobb":https://thewildgeese.irish/profile/GeoffreyCobb
END:VEVENT
END:VCALENDAR
