BEGIN:VCALENDAR
PRODID:NingEventWidget-v1
VERSION:2.0
METHOD:PUBLISH
BEGIN:VEVENT
UID:6442157:Event:98631
DTSTAMP:20260421T034857Z
SUMMARY:Radio Free Eireann This Saturday
DESCRIPTION:Radio Free Eireann will interview Eamonn McCann, the leadi
 ng journalist and socialist activist, about the racist violence that h
 as broken out throughout the North this Saturday, June 14, at 1 pm New
  York time. Eamonn was unable to be with us last week because he was d
 elayed at an anti-racist march in Belfast.\nRadio Free Eireann is hear
 d on WBAI 99.5 FM and wbai.org on the web. We broadcast live from Rock
 y Sullivan's of Red  Hook, 34 Van Dyke Street in Brooklyn.\nThis will
  be the last week of WBAI's fund drive. That means it will be the last
  chance to get The Spirit of Resistance: a History of Physical Force 
 Republicanism in Ireland and America by Seamus Metress Ph.D. in retur
 n for a contribution of $75 to WBAI. The Spirit of Resistance is onl
 y available from Radio Free Eireann.\n\nFor more information visit htt
 ps://thewildgeese.irish/events/radio-free-eireann-this-saturday-4
DTSTART:20140614T180000Z
DTEND:20140614T190000Z
CATEGORIES:radio, broadcast
LOCATION:Rocky Sullivan's of Red Hook
WEBSITE:http://rockysullivansofredhook.com
URL:http://rockysullivansofredhook.com
CONTACT:718 246 8050
ORGANIZER;CN="Sandy Boyer":https://thewildgeese.irish/profile/SandyBoy
 er
ATTACH;FMTTYPE="image/jpeg":
ATTENDEE;ROLE=REQ-PARTICIPANT;PARTSTAT=ACCEPTED;RSVP=TRUE;CN="Sandy Bo
 yer":https://thewildgeese.irish/profile/SandyBoyer
END:VEVENT
END:VCALENDAR
