BEGIN:VCALENDAR
PRODID:NingEventWidget-v1
VERSION:2.0
METHOD:PUBLISH
BEGIN:VEVENT
UID:6442157:Event:192383
DTSTAMP:20260421T050709Z
SUMMARY:Quietly
DESCRIPTION:Irish Repertory Theatre in association with The Public The
 ater presents\nThe Abbey Theatre's production of \n\nBelfast is a plac
 e where things need to be said. Following the 1999 Easter Peace Accord
 , the guns were silenced but the chasm between the Republican and Unio
 nist sides remains wide and bitter. The guns were silenced but the cha
 sm between the Republican and Unionist sides remains wide and bitter.Â
   Tonight, in a small back-street bar, while Northern Ireland plays Po
 land on the TV, Jimmy and Ian will meet for the first time. They share
  a violent past and this is a conversation that's been brewing for mor
 e than 20 years...\n\nQuietly is a story about what happened in a part
 icular bar in 1974, but also what happened in Northern Ireland from th
 e late 1960s to the late 90s. It is a \"powerful, \"gripping\" play ab
 out violence and forgiveness and the 'spiritual lesson of time and hea
 ling.' After enjoying huge international success, the Abbey Theatre br
 ings this important new work to Irish Rep.\n\nFor more information vis
 it https://thewildgeese.irish/events/quietly
DTSTART:20160720T200000Z
DTEND:20160911T220000Z
CATEGORIES:theater
LOCATION:Irish Repertory Theatre
WEBSITE:http://www.irishrep.org/quietly.html
URL:http://www.irishrep.org/quietly.html
CONTACT:2127272737
ORGANIZER;CN="The Irish Repertory Theatre":https://thewildgeese.irish/
 profile/TheIrishRepertoryTheatre
ATTACH;FMTTYPE="image/jpeg":http://storage.ning.com/topology/rest/1.0/
 file/get/122513633?profile=original
ATTENDEE;ROLE=REQ-PARTICIPANT;PARTSTAT=ACCEPTED;RSVP=TRUE;CN="The Iris
 h Repertory Theatre":https://thewildgeese.irish/profile/TheIrishRepert
 oryTheatre
END:VEVENT
END:VCALENDAR
