BEGIN:VCALENDAR
PRODID:NingEventWidget-v1
VERSION:2.0
METHOD:PUBLISH
BEGIN:VEVENT
UID:6442157:Event:176728
DTSTAMP:20260421T151857Z
SUMMARY:Proclamation of the Irish Republic: Rhetoric of 1916
DESCRIPTION:\"Proclamation of the Irish Republic: Rhetoric of 1916\"\n
 By Professor Richard Aldous\nThursday, December 10th, 2015\n6:30 PM - 
 8:30 PM\nSpace is limited.  To secure a place, please RSVP to: nycgin
 vites@dfa.ie by Friday, December 4.\n\n\n\nAOH 1916 Lecture 2nd in Ser
 ies.png\n\nFor more information visit https://thewildgeese.irish/event
 s/proclamation-of-the-irish-republic-rhetoric-of-1916
DTSTART:20151211T003000Z
DTEND:20151211T023000Z
CATEGORIES:lecture
LOCATION:Consulate General of Ireland - New York
WEBSITE:https://www.dfa.ie/irish-consulate/newyork/
URL:https://www.dfa.ie/irish-consulate/newyork/
CONTACT:212 319 2555
ORGANIZER:AOH, LAOH, Consulate General of Ireland, and NY GAA
ATTACH;FMTTYPE="image/jpeg":http://storage.ning.com/topology/rest/1.0/
 file/get/122511002?profile=original
ATTENDEE;ROLE=REQ-PARTICIPANT;PARTSTAT=ACCEPTED;RSVP=TRUE;CN="William 
 Lee":https://thewildgeese.irish/profile/WilliamLee
END:VEVENT
END:VCALENDAR
