BEGIN:VCALENDAR
PRODID:NingEventWidget-v1
VERSION:2.0
METHOD:PUBLISH
BEGIN:VEVENT
UID:6442157:Event:144385
DTSTAMP:20260420T184520Z
SUMMARY:Mother's Day in Ireland
DESCRIPTION:Hi Irish Diaspora - just giving you the heads up - Mother'
 s Day in Ireland this year is Sunday 15th March.  I know from my own 
 mother's reaction to getting a gift for a mother's day date for anothe
 r country it just doesn't do the trick!  For those of you lucky to st
 ill have a mum who is living in Ireland - you have been warned....!!\n
 \nFor more information visit https://thewildgeese.irish/events/mother-
 s-day-in-ireland
DTSTART:20150315T050000Z
DTEND:20150316T045900Z
CATEGORIES:"mother's", day, in, ireland
LOCATION:Ireland
WEBSITE:http://totallyirishgifts.com/index.php/special-occasions-irish
 -gifts/mother-s-day-gifts.html
URL:http://totallyirishgifts.com/index.php/special-occasions-irish-gif
 ts/mother-s-day-gifts.html
CONTACT:
ORGANIZER;CN="Totally Irish Gifts":https://thewildgeese.irish/profile/
 TotallyIrishGifts
ATTACH;FMTTYPE="image/jpeg":http://storage.ning.com/topology/rest/1.0/
 file/get/122501314?profile=original
ATTENDEE;ROLE=REQ-PARTICIPANT;PARTSTAT=ACCEPTED;RSVP=TRUE;CN="Totally 
 Irish Gifts":https://thewildgeese.irish/profile/TotallyIrishGifts
END:VEVENT
END:VCALENDAR
