BEGIN:VCALENDAR
PRODID:NingEventWidget-v1
VERSION:2.0
METHOD:PUBLISH
BEGIN:VEVENT
UID:6442157:Event:26908
DTSTAMP:20260422T074356Z
SUMMARY:Michael Patrick MacDonald on Whitey Bulger on Radio Free Eirea
 nn
DESCRIPTION:Michael Patrick MacDonald, the author of “All Souls: A F
 amily Story from Southie,” will discuss the Whitey Bulger trial on R
 adio Free Eireann this Saturday. April 22nd at 1pm as we continue our 
 live broadcasts from Rocky Sullivan’s in Red Hook, Brooklyn.\n \nMi
 chael Patrick MacDonald grew up in South Boston’s “Lower End’’
  which held the country’s highest concentration of white poverty. Th
 e neighborhood was ruled by Bulger and his gang with the active assist
 ance of the FBI.\n \nThere will also be live music from the Lost Trib
 e of Donegal.  Rocky Sullivan’s is located at 34 Van Dyke Street in
  Red Hook. Travel directions are available on their web site, rockysul
 livansredhook.com.\n \nRadio Free Eireann can be heard Saturdays from
  1-2 pm New York tine on WBAI, 99.5 FM or wbai.org.\n\nFor more inform
 ation visit https://thewildgeese.irish/events/michael-patrick-macdonal
 d-on-whitey-bulger-on-radio-free-eireann
DTSTART:20130622T180000Z
DTEND:20130622T190000Z
CATEGORIES:live, radio, broadcast
LOCATION:Brooklyn, NY
WEBSITE:http://rockysullivansredhook.com
URL:http://rockysullivansredhook.com
CONTACT:718 246 8050
ORGANIZER;CN="Sandy Boyer":https://thewildgeese.irish/profile/SandyBoy
 er
ATTACH;FMTTYPE="image/jpeg":http://storage.ning.com/topology/rest/1.0/
 file/get/122476369?profile=original
ATTENDEE;ROLE=REQ-PARTICIPANT;PARTSTAT=ACCEPTED;RSVP=TRUE;CN="Jim Curl
 ey":https://thewildgeese.irish/profile/JimCurley
ATTENDEE;ROLE=REQ-PARTICIPANT;PARTSTAT=ACCEPTED;RSVP=TRUE;CN="Sandy Bo
 yer":https://thewildgeese.irish/profile/SandyBoyer
ATTENDEE;ROLE=REQ-PARTICIPANT;PARTSTAT=ACCEPTED;RSVP=TRUE;CN="Gerry Re
 gan":https://thewildgeese.irish/profile/ger_regan
END:VEVENT
END:VCALENDAR
