BEGIN:VCALENDAR
PRODID:NingEventWidget-v1
VERSION:2.0
METHOD:PUBLISH
BEGIN:VEVENT
UID:6442157:Event:147789
DTSTAMP:20260420T171258Z
SUMMARY:McMayhem in Midtown
DESCRIPTION:New event poster including addition of Spike O'Sullivan\n\
 nFor more information visit https://thewildgeese.irish/events/mcmayhem
 -in-midtown-2
DTSTART:20150315T000000Z
DTEND:20150315T170000Z
CATEGORIES:irish, boxing
LOCATION:Madison Square Garden
WEBSITE:
URL:
CONTACT:
ORGANIZER;CN="Bobby McGuire":https://thewildgeese.irish/profile/BobbyM
 cGuire
ATTACH;FMTTYPE="image/jpeg":
ATTENDEE;ROLE=REQ-PARTICIPANT;PARTSTAT=ACCEPTED;RSVP=TRUE;CN="Bobby Mc
 Guire":https://thewildgeese.irish/profile/BobbyMcGuire
END:VEVENT
END:VCALENDAR
