BEGIN:VCALENDAR
PRODID:NingEventWidget-v1
VERSION:2.0
METHOD:PUBLISH
BEGIN:VEVENT
UID:6442157:Event:74873
DTSTAMP:20260424T005433Z
SUMMARY:Mary Courtney's New Gig
DESCRIPTION:Mary Courtney, myself and Donie Ryan will be starting a 
 new gig 5th Feb at Pour George's Gastropub (35 West 8th Street, betwee
 n MacDougal St and 6th Ave) every Wednesday 5:30 -8:30pm. \n\nCome in
  after work to help shorten the week! (this starts NEXT week)\n\nFor m
 ore information visit https://thewildgeese.irish/events/mary-courtney-
 s-new-gif
DTSTART:20140205T230000Z
DTEND:20140206T020000Z
CATEGORIES:music
LOCATION:Pour George's Gastropub
WEBSITE:
URL:
CONTACT:
ORGANIZER:Mary Courtney
ATTACH;FMTTYPE="image/jpeg":http://storage.ning.com/topology/rest/1.0/
 file/get/122486742?profile=original
ATTENDEE;ROLE=REQ-PARTICIPANT;PARTSTAT=ACCEPTED;RSVP=TRUE;CN="James Mc
 Namara":https://thewildgeese.irish/profile/JamesMcNamara
ATTENDEE;ROLE=REQ-PARTICIPANT;PARTSTAT=ACCEPTED;RSVP=TRUE;CN="Sandy Bo
 yer":https://thewildgeese.irish/profile/SandyBoyer
END:VEVENT
END:VCALENDAR
