BEGIN:VCALENDAR
PRODID:NingEventWidget-v1
VERSION:2.0
METHOD:PUBLISH
BEGIN:VEVENT
UID:6442157:Event:140707
DTSTAMP:20260420T204426Z
SUMMARY:March 16th Irish Concert in NYC to Benefit Kylemore Abbey
DESCRIPTION:Joining us for this wonderful evening will be the \"singin
 g priest / hallelujah priest\" as well as Master of Ceremonies Adrian
  Flannelly.\nWild Geese members will receive a discount!   $100 fron
 t row tickets it will be $75, and $50 back row ticket will be reduced 
 to $35.\n\n\nFor more information visit https://thewildgeese.irish/eve
 nts/march-16th-irish-concert-in-nyc-to-benefit-kylemore-abbey-county
DTSTART:20150317T000000Z
DTEND:20150317T020000Z
CATEGORIES:irish, benefit, concert
LOCATION:St. Josephs Catholic Church in the Village
WEBSITE:http://www.FriendsOfKylemoreAbbey.com
URL:http://www.FriendsOfKylemoreAbbey.com
CONTACT:914-420-3517
ORGANIZER;CN="Mary Reed":https://thewildgeese.irish/profile/MaryReed
ATTACH;FMTTYPE="image/jpeg":http://storage.ning.com/topology/rest/1.0/
 file/get/122500675?profile=original
ATTENDEE;ROLE=REQ-PARTICIPANT;PARTSTAT=ACCEPTED;RSVP=TRUE;CN="Mary Ree
 d":https://thewildgeese.irish/profile/MaryReed
ATTENDEE;ROLE=REQ-PARTICIPANT;PARTSTAT=TENTATIVE;RSVP=TRUE;CN="Gerry R
 egan":https://thewildgeese.irish/profile/ger_regan
END:VEVENT
END:VCALENDAR
