BEGIN:VCALENDAR
PRODID:NingEventWidget-v1
VERSION:2.0
METHOD:PUBLISH
BEGIN:VEVENT
UID:6442157:Event:68985
DTSTAMP:20260423T195521Z
SUMMARY:Malachy McCourt reads from Eamon Loingsigh's Light of the Didd
 icoy.
DESCRIPTION:Come by and check this out if your in New York City Januar
 y 16th!!\n\n\nFor more information visit https://thewildgeese.irish/ev
 ents/malachy-mccourt-reads-from-eamon-loingsigh-s-light-of-the
DTSTART:20140117T010000Z
DTEND:20140117T060000Z
CATEGORIES:literary, reading
LOCATION:Barrow Street Theater
WEBSITE:http://artofneed.wordpress.com
URL:http://artofneed.wordpress.com
CONTACT:(212) 243-6262
ORGANIZER;CN="Eamon Loingsigh":https://thewildgeese.irish/profile/Eamo
 nLoingsigh
ATTACH;FMTTYPE="image/jpeg":
ATTENDEE;ROLE=REQ-PARTICIPANT;PARTSTAT=ACCEPTED;RSVP=TRUE;CN="Gerry Re
 gan":https://thewildgeese.irish/profile/ger_regan
ATTENDEE;ROLE=REQ-PARTICIPANT;PARTSTAT=ACCEPTED;RSVP=TRUE;CN="Eamon Lo
 ingsigh":https://thewildgeese.irish/profile/EamonLoingsigh
END:VEVENT
END:VCALENDAR
