BEGIN:VCALENDAR
PRODID:NingEventWidget-v1
VERSION:2.0
METHOD:PUBLISH
BEGIN:VEVENT
UID:6442157:Event:147349
DTSTAMP:20260421T213818Z
SUMMARY:LIVE in The Virtual Síbín with Kate Cunningham
DESCRIPTION:\nClick here to learn more.\n\nFor more information visit 
 https://thewildgeese.irish/events/live-in-the-virtual-sibin-with-kate-
 cunningham
DTSTART:20150305T230000Z
DTEND:20150305T234500Z
CATEGORIES:"live online hangout"
LOCATION:TheWildGeese.com
WEBSITE:
URL:
CONTACT:
ORGANIZER;CN="The Wild Geese":https://thewildgeese.irish/profile/TheWi
 ldGeese
ATTACH;FMTTYPE="image/jpeg":http://storage.ning.com/topology/rest/1.0/
 file/get/122502581?profile=original
ATTENDEE;ROLE=REQ-PARTICIPANT;PARTSTAT=ACCEPTED;RSVP=TRUE;CN="The Wild
  Geese":https://thewildgeese.irish/profile/TheWildGeese
END:VEVENT
END:VCALENDAR
