BEGIN:VCALENDAR
PRODID:NingEventWidget-v1
VERSION:2.0
METHOD:PUBLISH
BEGIN:VEVENT
UID:6442157:Event:98327
DTSTAMP:20260421T051908Z
SUMMARY:LIVE Community Chat with Wild West Irish Tours
DESCRIPTION:Join us this Friday (June 13) at 5:00 p.m. Eastern (U.S.) 
 Time for the next in our series of Wild Geese LIVE Community Chats.  
 We'll be chatting this time with Michael Regan-Waugh of Wild West Iris
 h Tours.  Always, the chat will be held in the Main Chat Room here at
  TheWildGeese.com.  You must be a registered member of The Wild Geese
  community to participate.\nRead more here\n\n\n\n\nFor more informati
 on visit https://thewildgeese.irish/events/live-community-chat-with-wi
 ld-west-irish-tours
DTSTART:20140613T220000Z
DTEND:20140613T224500Z
CATEGORIES:live, chat
LOCATION:TheWildGeese.com
WEBSITE:http://thenewwildgeese.com/chat/index/popOutWindowV4
URL:http://thenewwildgeese.com/chat/index/popOutWindowV4
CONTACT:
ORGANIZER;CN="The Wild Geese":https://thewildgeese.irish/profile/TheWi
 ldGeese
ATTACH;FMTTYPE="image/jpeg":http://storage.ning.com/topology/rest/1.0/
 file/get/122492129?profile=original
ATTENDEE;ROLE=REQ-PARTICIPANT;PARTSTAT=ACCEPTED;RSVP=TRUE;CN="The Wild
  Geese":https://thewildgeese.irish/profile/TheWildGeese
END:VEVENT
END:VCALENDAR
