BEGIN:VCALENDAR
PRODID:NingEventWidget-v1
VERSION:2.0
METHOD:PUBLISH
BEGIN:VEVENT
UID:6442157:Event:61122
DTSTAMP:20260423T182920Z
SUMMARY:LIVE Community Chat with Jim Goulding
DESCRIPTION:This Monday, The Wild Geese community will have the opport
 unity to engage in a real-time discussion with fellow member, Jim Goul
 ding, regarding the Irish influence in Latin America. Jim is a residen
 t of Pereira, Colombia on the South American continent.\nAs always, th
 e live chat will be conducted in the Main Room here at TheWildGeese.co
 m. The chat will begin at 5:00 p.m. Eastern (U.S.) Time on Monday, Nov
 ember 11th. Please join us and bring along your questions for Jim rela
 ting to the influence of the Irish in Latin America.\n\n \n\nFor more
  information visit https://thewildgeese.irish/events/live-community-ch
 at-with-jim-goulding
DTSTART:20131111T230000Z
DTEND:20131111T234500Z
CATEGORIES:live, chat
LOCATION:TheWildGeese.com Main Chatroom
WEBSITE:http://thenewwildgeese.com/chat/index/popOutWindowV4
URL:http://thenewwildgeese.com/chat/index/popOutWindowV4
CONTACT:
ORGANIZER;CN="The Wild Geese":https://thewildgeese.irish/profile/TheWi
 ldGeese
ATTACH;FMTTYPE="image/jpeg":http://storage.ning.com/topology/rest/1.0/
 file/get/122483215?profile=original
ATTENDEE;ROLE=REQ-PARTICIPANT;PARTSTAT=ACCEPTED;RSVP=TRUE;CN="jean kan
 iecki":https://thewildgeese.irish/profile/jeankaniecki
ATTENDEE;ROLE=REQ-PARTICIPANT;PARTSTAT=ACCEPTED;RSVP=TRUE;CN="The Wild
  Geese":https://thewildgeese.irish/profile/TheWildGeese
ATTENDEE;ROLE=REQ-PARTICIPANT;PARTSTAT=ACCEPTED;RSVP=TRUE;CN="Ryan O'R
 ourke":https://thewildgeese.irish/profile/RyanORourke
ATTENDEE;ROLE=REQ-PARTICIPANT;PARTSTAT=ACCEPTED;RSVP=TRUE;CN="Nollaig 
 2016":https://thewildgeese.irish/profile/BelindaEvangelista
ATTENDEE;ROLE=REQ-PARTICIPANT;PARTSTAT=TENTATIVE;RSVP=TRUE;CN="Ann Fin
 neran":https://thewildgeese.irish/profile/AnnFinneran
ATTENDEE;ROLE=REQ-PARTICIPANT;PARTSTAT=TENTATIVE;RSVP=TRUE;CN="James B
 . Soden":https://thewildgeese.irish/profile/JamesBSoden
ATTENDEE;ROLE=REQ-PARTICIPANT;PARTSTAT=TENTATIVE;RSVP=TRUE;CN="Jennife
 r Yates":https://thewildgeese.irish/profile/JenniferYates
END:VEVENT
END:VCALENDAR
