BEGIN:VCALENDAR
PRODID:NingEventWidget-v1
VERSION:2.0
METHOD:PUBLISH
BEGIN:VEVENT
UID:6442157:Event:63352
DTSTAMP:20260423T103511Z
SUMMARY:LIVE Community Chat: Remembering JFK
DESCRIPTION:Perhaps the emotional highlight of the \"JFK and the Irish
 \" week will be a community-wide chat, slated for Friday, November 22,
  the 50th anniversary of JFK’s assassination, at 5 p.m. ET / 10 p.m.
  Irish time. The 60-minute long event will be conducted in our Main Ch
 at Room.\nIrish Photo Archive’s Sean Walsh will be the prime focus f
 or the 60-minute event, conducted in our Main Chat Room and moderated 
 by our team. One focus will be the story of JFK’s visit in June 1963
  to Ireland, and especially to his family’s ancestral homestead in N
 ew Ross, County Wexford. With Sean Walsh’s help, we will hear how ph
 otojournalist Andy Farren, today 97, helped capture moments during the
  ‘homecoming’ for posterity. Please RSVP as we expect a crowd.\nIr
 ish Photo Archive is providing two 12x16 prints made from the photos s
 hot by Farren, now part of the Lensmen Agency collection it owns. We w
 ill offer these to participants in the community-wide chat via drawing
  held after the chat ends. These commemorative items are destined to b
 ecome heirlooms.\nAlso to be given away to a lucky participant in Frid
 ay’s chat is a JFK Souvenir Hurley from Heritage Hurleys. Registered
  with the Crafts Council of Ireland, our Heritage Partner Heritage Hur
 leys is based in Westmeath. The firm makes handcrafted Irish Ash hurli
 ng gifts and souvenirs, personalized with images and text, giving an e
 ngraved effect finish a unique and beautiful Irish gift for all occasi
 ons.\n\nFor more information visit https://thewildgeese.irish/events/l
 ive-community-chat-remembering-jfk
DTSTART:20131122T230000Z
DTEND:20131123T000000Z
CATEGORIES:live, chat
LOCATION:TheWildGeese.com Main Chatroom
WEBSITE:http://thenewwildgeese.com/chat/index/popOutWindowV4
URL:http://thenewwildgeese.com/chat/index/popOutWindowV4
CONTACT:
ORGANIZER;CN="The Wild Geese":https://thewildgeese.irish/profile/TheWi
 ldGeese
ATTACH;FMTTYPE="image/jpeg":http://storage.ning.com/topology/rest/1.0/
 file/get/122484239?profile=original
ATTENDEE;ROLE=REQ-PARTICIPANT;PARTSTAT=ACCEPTED;RSVP=TRUE;CN="Mary Ann
 e   Hickey":https://thewildgeese.irish/profile/MaryAnneHickey
ATTENDEE;ROLE=REQ-PARTICIPANT;PARTSTAT=ACCEPTED;RSVP=TRUE;CN="Jim Curl
 ey":https://thewildgeese.irish/profile/JimCurley
ATTENDEE;ROLE=REQ-PARTICIPANT;PARTSTAT=ACCEPTED;RSVP=TRUE;CN=IrishPhot
 oArchive:https://thewildgeese.irish/profile/IrishPhotoArchive
ATTENDEE;ROLE=REQ-PARTICIPANT;PARTSTAT=ACCEPTED;RSVP=TRUE;CN="Robert B
 urns":https://thewildgeese.irish/profile/RobertBurns
ATTENDEE;ROLE=REQ-PARTICIPANT;PARTSTAT=ACCEPTED;RSVP=TRUE;CN="The Wild
  Geese":https://thewildgeese.irish/profile/TheWildGeese
ATTENDEE;ROLE=REQ-PARTICIPANT;PARTSTAT=ACCEPTED;RSVP=TRUE;CN="Ryan O'R
 ourke":https://thewildgeese.irish/profile/RyanORourke
ATTENDEE;ROLE=REQ-PARTICIPANT;PARTSTAT=ACCEPTED;RSVP=TRUE;CN="Nollaig 
 2016":https://thewildgeese.irish/profile/BelindaEvangelista
ATTENDEE;ROLE=REQ-PARTICIPANT;PARTSTAT=ACCEPTED;RSVP=TRUE;CN="Gerry Re
 gan":https://thewildgeese.irish/profile/ger_regan
ATTENDEE;ROLE=REQ-PARTICIPANT;PARTSTAT=TENTATIVE;RSVP=TRUE;CN="Susan M
 cWilliams Lev-Yadun":https://thewildgeese.irish/profile/SusanLevYadun
END:VEVENT
END:VCALENDAR
