BEGIN:VCALENDAR
PRODID:NingEventWidget-v1
VERSION:2.0
METHOD:PUBLISH
BEGIN:VEVENT
UID:6442157:Event:114400
DTSTAMP:20260420T230638Z
SUMMARY:LABOR PAR-TAY
DESCRIPTION:I will be reading 2 poems about how from the front seat of
  my yellow cab I have been driving New York City crazy for 30 years.\n
 Three Rooms Press presents The Monthly at Cornelia Street CafeLabor Pa
 r-tay!A Look at All Things Labor: The Party, The Job, The Birth of a N
 ew CreationFriday, September 5, 6 pmCornelia Street Cafe 29 Cornelia S
 treet (between W. 4th & Bleecker) | 212-989-9319Featured performers:Ra
 ndy Credico2014 Candidate for NYS Governor and political activistJonat
 han TasiniPublisher, Working Life blog, author, The Audacity of GreedJ
 ohn McDonaghComedic political activist and WBAI radio host and produce
 rLydia CortesPoet, author of Lust for Lust and Whose PlaceQuincy R. Le
 hrHistorian, poet and critic, author of HeimatKeep the spirit of Labor
  Day going (and maybe make summer last just a little bit longer!) as T
 hree Rooms Press present Labor Par-tay, the latest edition of The Mont
 hly, with performances by and about all things labor: The Party, The J
 ob, The Birth of a New Creation.Our featured lineup includes Randy Cre
 dico, 2014 New York State Gubernatorial candidate and political activi
 st; Jonathan Tasini, publisher of Working Life blog and author of The 
 Audacity of Greed, John McDonagh, comedic political activist and WBAI 
 radio host and producer; Lydia Cortes, poet and author of Lust for Lus
 t and Whose Place; and Quincy R. Lehr, Historian, poet, and critic, an
 d author of Heimat Three Rooms Press co-directors Peter Carlaftes and 
 Kat (not Cat!) Georges will co-host the event. LABOR PAR-TAY!Friday, 
 September 5, 6 pm Cornelia Street Cafe29 Cornelia Street (btwn W. 4th
  & Bleecker)212-989-9319. Admission $8 (includes a free drink)Details
 : info@threeroomspress.comLABOR PAR-TAY is the latest installment of T
 he Monthly at Cornelia Street Cafe, a unique series curated by Three R
 ooms Press that brings together leading poets, intellectuals, performe
 rs and rebels on a different topic each month. THREE ROOMS PRESS is a 
 New York-based, fiercely independent publisher inspired by Dada, Punk 
 and Passion. CORNELIA STREET CAFE is a Greenwich Village institution o
 ffering live jazz and literary events 7 nights a week, plus delicious 
 food and superb drinks\n\nFor more information visit https://thewildge
 ese.irish/events/labor-par-tay
DTSTART:20140905T230000Z
DTEND:20140906T010000Z
CATEGORIES:labor, poets
LOCATION:Cornelia Street Cafe Greenwich Village
WEBSITE:
URL:
CONTACT:
ORGANIZER;CN="John McDonagh":https://thewildgeese.irish/profile/JohnMc
 Donagh
ATTACH;FMTTYPE="image/jpeg":http://storage.ning.com/topology/rest/1.0/
 file/get/122494840?profile=original
ATTENDEE;ROLE=REQ-PARTICIPANT;PARTSTAT=ACCEPTED;RSVP=TRUE;CN="John McD
 onagh":https://thewildgeese.irish/profile/JohnMcDonagh
ATTENDEE;ROLE=REQ-PARTICIPANT;PARTSTAT=TENTATIVE;RSVP=TRUE;CN="Gerry R
 egan":https://thewildgeese.irish/profile/ger_regan
END:VEVENT
END:VCALENDAR
