BEGIN:VCALENDAR
PRODID:NingEventWidget-v1
VERSION:2.0
METHOD:PUBLISH
BEGIN:VEVENT
UID:6442157:Event:63643
DTSTAMP:20260423T133323Z
SUMMARY:'Kennedy’s Cadets': Documentary Screening
DESCRIPTION:\"Kennedy’s Cadets” tells the extraordinary story of t
 his group of Irish teenagers, who in the space of 48 hours found thems
 elves catapulted to the forefront of the world’s media, standing bes
 ide the grave of the most powerful man in the Western world. And, in a
  truly emotional epilogue to the story, three of the members of that c
 adet class who have not returned to Washington since 1963, make that j
 ourney once more, to the gravesite where they stood with their classma
 tes, all those years ago.\nThe Documentary is presented ‘as Gaeilge
  with subtitles in English.\nFREE EVENT (RESERVATION REQUIRED)\nUPDA
 TE: THERE ARE VERY FEW PLACES LEFT IF YOU ARE PLANNING TO COME ALONG R
 ING TO SECURE YOUR PLACE\nFOR RESERVATIONS CALL 718-482-0909\nThe New 
 York Irish Center are thrilled to announce that we are honored to have
  a very very special guest at “Kennedy’s Cadets” here at the New
  York Irish Center on Friday 22nd of Nov. Army 1st Lt. Martin Dockery 
 was a member of the Army's prestigious \"Old Guard\" ceremonial unit, 
 the memories are a little more personal: He was in charge of the usher
 s at Kennedy's funeral at St. Matthew's Cathedral. Army 1st Lt. Martin
  Dockery also was responsible for meeting, greeting and hosting the Ir
 ish Cadet's requested by Jacqueline Kennedy to perform a silent graves
 ide drill her husband had admired during his visit to Ireland earlier 
 that year. Directly after our screening on Friday, Martin has very gra
 ciously agreed to share and talk about his experience.\n\nFor more inf
 ormation visit https://thewildgeese.irish/events/kennedy-s-cadets-docu
 mentary-screening
DTSTART:20131123T013000Z
DTEND:20131123T040000Z
CATEGORIES:documentary, screening
LOCATION:New York Irish Center
WEBSITE:http://www.newyorkirishcenter.org/events_item.cfm?itemid=55027
 &catid=14445
URL:http://www.newyorkirishcenter.org/events_item.cfm?itemid=55027&cat
 id=14445
CONTACT:718-482-0909
ORGANIZER:New York Irish Center
ATTACH;FMTTYPE="image/jpeg":http://storage.ning.com/topology/rest/1.0/
 file/get/122484320?profile=original
ATTENDEE;ROLE=REQ-PARTICIPANT;PARTSTAT=ACCEPTED;RSVP=TRUE;CN="The Wild
  Geese":https://thewildgeese.irish/profile/TheWildGeese
END:VEVENT
END:VCALENDAR
