BEGIN:VCALENDAR
PRODID:NingEventWidget-v1
VERSION:2.0
METHOD:PUBLISH
BEGIN:VEVENT
UID:6442157:Event:183716
DTSTAMP:20260425T084007Z
SUMMARY:Julian Sands in A Celebration of Harold Pinter
DESCRIPTION:With personal anecdotes and reflections drawn from their w
 ork together, this brilliant collaboration is a rich, humorous, and fa
 scinating solo show directed by John Malkovich. A Celebration of Harol
 d Pinter delivers an evening of Homeric Theatre with an extraordinary 
 actor exploring Pinter's lesser-known poems and prose, devoid of prete
 nsion or glittery trappings. It gets to the soul of the man- poet, pla
 ywright, husband, political activist, Nobel winner, mortal.\nPerforman
 ce Schedule:Tues at 7pm | Wed at 3pm & 8pm | Thu at 7pm | Fri at 8pm |
  Sat at 3pm & 8pm | Sun at 3pmNo performance April 2nd, special 3pm sh
 ow April 1st\nApprox. Running Time: 1 hour, 30 min, including intermis
 sion\n\n\nFor more information visit https://thewildgeese.irish/events
 /julian-sands-in-a-celebration-of-harold-pinter
DTSTART:20160316T000000Z
DTEND:20160403T213000Z
CATEGORIES:theatre
LOCATION:DR2 Theatre
WEBSITE:http://www.irishrep.org/pinter2016.html
URL:http://www.irishrep.org/pinter2016.html
CONTACT:2127272737
ORGANIZER;CN="The Irish Repertory Theatre":https://thewildgeese.irish/
 profile/TheIrishRepertoryTheatre
ATTACH;FMTTYPE="image/jpeg":http://storage.ning.com/topology/rest/1.0/
 file/get/122512300?profile=original
ATTENDEE;ROLE=REQ-PARTICIPANT;PARTSTAT=ACCEPTED;RSVP=TRUE;CN="The Iris
 h Repertory Theatre":https://thewildgeese.irish/profile/TheIrishRepert
 oryTheatre
ATTENDEE;ROLE=REQ-PARTICIPANT;PARTSTAT=TENTATIVE;RSVP=TRUE;CN="The Wil
 d Geese":https://thewildgeese.irish/profile/TheWildGeese
END:VEVENT
END:VCALENDAR
