BEGIN:VCALENDAR
PRODID:NingEventWidget-v1
VERSION:2.0
METHOD:PUBLISH
BEGIN:VEVENT
UID:6442157:Event:62907
DTSTAMP:20260423T121224Z
SUMMARY:John Fitzgerald Kennedy - The Torch Still Burns Brightly
DESCRIPTION:Vincent Kennedy will conduct his music “John Fitzgerald
  Kennedy – The Torch Still Burns Brightly” at a ceremony by the e
 ternal flame on the quay side in New Ross on Friday 22nd November at 
 17.50pm. The ceremony will be the national commemoration and remembran
 ce for President Kennedy who was assassinated 50 years ago and is time
 d to take place at the same time as that tragic event in 1963. The mus
 ic was commissioned by New Ross Town council and is the final part of 
 their JFK ceremonies this year.  The performers will be the New Ross 
 and District Pipe Band (current world champions), The Holy Family Conf
 raternity Brass Band and musicians from the southeast and Dublin. \nV
 incent will conduct the music again in the National Concert Hall, DUbl
 in on Tuesday 26th November in a 8pm concert with the Rathfarnham Con
 cert Band Society which also features the music of John Williams.\n\nF
 or more information visit https://thewildgeese.irish/events/john-fitzg
 erald-kennedy-the-torch-still-burns-brightly
DTSTART:20131122T234500Z
DTEND:20131123T004500Z
CATEGORIES:music, commemoration, -, national, for, jfk
LOCATION:Quay side by Eternal Flame, New Ross, County Wexford, Ireland
WEBSITE:
URL:
CONTACT:
ORGANIZER;CN="Vincent Kennedy":https://thewildgeese.irish/profile/Vinc
 entKennedy
ATTACH;FMTTYPE="image/jpeg":
ATTENDEE;ROLE=REQ-PARTICIPANT;PARTSTAT=ACCEPTED;RSVP=TRUE;CN="Vincent 
 Kennedy":https://thewildgeese.irish/profile/VincentKennedy
END:VEVENT
END:VCALENDAR
