BEGIN:VCALENDAR
PRODID:NingEventWidget-v1
VERSION:2.0
METHOD:PUBLISH
BEGIN:VEVENT
UID:6442157:Event:81382
DTSTAMP:20260421T051806Z
SUMMARY:Irish Theme on NC PBS Stations
DESCRIPTION:I celebration of Irish-American Heritage Month, North Caro
 lina Public Broadcasting stations will air the following:\n\n On Sund
 ay, March 9, we have Nature \"Ireland's Wild River\" at noon to 1:30 p
 .m., and Judy Collins: Live in Ireland airing from 1:30 p.m. to 3 p.m.
   Currently, Judy's show is scheduled to repeat on March 19 at 8 p.m.
  to 9:30 p.m., but of course that could change.And we also have Heartb
 eat of Home, which comes from the producers of Riverdance, airing on S
 aturday, March 8, at 9 to 11 p.m., and repeating on Tuesday, March 11,
  8 p.m. to 10 p.m. This features \"dynamic elements of traditional Iri
 sh, Latin and Afro-Cuban music and dance.\"\n\n\n\n\nFor more informat
 ion visit https://thewildgeese.irish/events/irish-theme-on-nc-pbs-stat
 ions
DTSTART:20140309T183000Z
DTEND:20140320T010000Z
CATEGORIES:televised, productions
LOCATION:North Carolina Public Broadcasting channels
WEBSITE:
URL:
CONTACT:
ORGANIZER:Shannon Vickery, Director of Programming
ATTACH;FMTTYPE="image/jpeg":http://storage.ning.com/topology/rest/1.0/
 file/get/122488525?profile=original
ATTENDEE;ROLE=REQ-PARTICIPANT;PARTSTAT=ACCEPTED;RSVP=TRUE;CN="Danny Al
 exander":https://thewildgeese.irish/profile/DannyAlexander
END:VEVENT
END:VCALENDAR
