BEGIN:VCALENDAR
PRODID:NingEventWidget-v1
VERSION:2.0
METHOD:PUBLISH
BEGIN:VEVENT
UID:6442157:Event:170896
DTSTAMP:20260421T052230Z
SUMMARY:Irish Screen America Film Festival
DESCRIPTION: Irish Screen America, formerly known as Irish Film New Y
 ork, supports and guides Irish media-makers by showcasing their work a
 nd fostering partnerships in the two largest cities for the entertainm
 ent industry in the United States – New York and Los Angeles. The or
 ganization holds screenings, industry panels, discussions and master c
 lasses throughout the year.\nIrish Screen America was founded by Irish
  filmmaker and producer, Niall McKay and is produced out of his media
  production company, Media Factory.\n  \nThis year they will be host
 ing their annual Film Festival in New York on October 2-4, 2015.   
 Their will be several movies shown as well as a director class and o
 pening night party.  For more details about the festival, please visi
 t their website.\n \n http://www.irishscreenamerica.com/\n\nFor more
  information visit https://thewildgeese.irish/events/irish-screen-amer
 ica-film-festival
DTSTART:20151002T050000Z
DTEND:20151005T045900Z
CATEGORIES:film, festival
LOCATION:NYU's Cantor Film Center
WEBSITE:https://www.google.com/maps/place/Iris+%26+B+Gerald+Cantor+Fil
 m+Center/@40.7313173,-73.9944841,17z/data=!3m1!4b1!4m2!3m1!1s0x89c2599
 a0ed3ae69:0x36f3c76c37ece5ce
URL:https://www.google.com/maps/place/Iris+%26+B+Gerald+Cantor+Film+Ce
 nter/@40.7313173,-73.9944841,17z/data=!3m1!4b1!4m2!3m1!1s0x89c2599a0ed
 3ae69:0x36f3c76c37ece5ce
CONTACT:510 638 4871
ORGANIZER:Irish Screen America
ATTACH;FMTTYPE="image/jpeg":http://storage.ning.com/topology/rest/1.0/
 file/get/122509265?profile=original
ATTENDEE;ROLE=REQ-PARTICIPANT;PARTSTAT=ACCEPTED;RSVP=TRUE;CN="William 
 Lee":https://thewildgeese.irish/profile/WilliamLee
END:VEVENT
END:VCALENDAR
