BEGIN:VCALENDAR
PRODID:NingEventWidget-v1
VERSION:2.0
METHOD:PUBLISH
BEGIN:VEVENT
UID:6442157:Event:203688
DTSTAMP:20260422T020020Z
SUMMARY:Irish Peach Imports -  Official Store Grand Opening
DESCRIPTION:We want to invite everyone to join us Saturday, November 1
 2, 2016 at 11:30am for the stores offical Grand Opening. Please join u
 s for the festivities, and a chance to meet the Irish Consulate!!   T
 hank you for your business and support!!   Maxine and Justine Longoba
 rdi  Co-Owners Irish Peach Imports\n\nFor more information visit http
 s://thewildgeese.irish/events/irish-peach-imports-official-store-grand
 -opening
DTSTART:20161112T170000Z
DTEND:20161112T190000Z
CATEGORIES:opening
LOCATION:Norcross,Georgia
WEBSITE:https://www.facebook.com/IrishPeachImports/
URL:https://www.facebook.com/IrishPeachImports/
CONTACT:(404) 925-0304
ORGANIZER;CN="Nollaig 2016":https://thewildgeese.irish/profile/Belinda
 Evangelista
ATTACH;FMTTYPE="image/jpeg":http://storage.ning.com/topology/rest/1.0/
 file/get/1235882976?profile=original
ATTENDEE;ROLE=REQ-PARTICIPANT;PARTSTAT=ACCEPTED;RSVP=TRUE;CN="Nollaig 
 2016":https://thewildgeese.irish/profile/BelindaEvangelista
END:VEVENT
END:VCALENDAR
