BEGIN:VCALENDAR
PRODID:NingEventWidget-v1
VERSION:2.0
METHOD:PUBLISH
BEGIN:VEVENT
UID:6442157:Event:153784
DTSTAMP:20260424T110753Z
SUMMARY:Irish Genealogical Society of Michigan
DESCRIPTION:Please join us when Don Hengen will present:\n\"Finding Bi
 rth and Death indexes online\"\nDon will start out with a brief look a
 t what an index is, then he'll go into looking at the four largest ind
 exes you will find online and finishes with some ideas on finding smal
 ler localized indexes.\nDon Hengen was born in Omaha, NE. A number of 
 job transfers led him to Toledo, Ohio in 1989 but they included two st
 ops in Sterling Heights and Warren, MI. He has been doing genealogy fo
 r 26 years after his youngest sister got him interested. A full time g
 enealogist since he retired about 10 years ago, he is working on traci
 ng all the descendants of 2 of his Quaker ancestors, spending a lot of
  his time in Indiana. Don has belonged to the Toledo Area Genealogical
  Society and the Genealogy by Computer Society for 25 years. He has se
 rved as Treasurer for both groups and was President of Genealogy by Co
 mputer Society for 4 years.\n\nFor more information visit https://thew
 ildgeese.irish/events/irish-genealogical-society-of-michigan
DTSTART:20150516T183000Z
DTEND:20150516T200000Z
CATEGORIES:educational, meeting
LOCATION:Gaelic League and Irish-American Club of Detroit
WEBSITE:
URL:
CONTACT:https://www.facebook.com/pages/Irish-Genealogical-Society-of-M
 ichigan/236855006444065
ORGANIZER;CN="W.B. Ulysses":https://thewildgeese.irish/profile/WBUlyss
 es
ATTACH;FMTTYPE="image/jpeg":
ATTENDEE;ROLE=REQ-PARTICIPANT;PARTSTAT=ACCEPTED;RSVP=TRUE;CN="Starlet 
 Cassidy":https://thewildgeese.irish/profile/StarletCassidy
ATTENDEE;ROLE=REQ-PARTICIPANT;PARTSTAT=ACCEPTED;RSVP=TRUE;CN="W.B. Uly
 sses":https://thewildgeese.irish/profile/WBUlysses
END:VEVENT
END:VCALENDAR
