BEGIN:VCALENDAR
PRODID:NingEventWidget-v1
VERSION:2.0
METHOD:PUBLISH
BEGIN:VEVENT
UID:6442157:Event:121050
DTSTAMP:20260419T110534Z
SUMMARY:Irish Film New York 2014
DESCRIPTION:Â \n\nDon't miss Irish Film New York annual festival.Â The
  highlight of the festival the interview with Irelandâ€™s most importa
 nt director Jim Sheridan.Â This year'sÂ themeÂ isÂ loveÂ in all of itâ
 €™s sometimes twisted forms. We have the love of a father for his son 
 inÂ In the Name of the Father, the love of a father for his daughter i
 nÂ Gold.Â The love a lonely man for unavailable (dead) women inÂ Love 
 Eternal, romantic love inÂ Poison PenÂ and of course a the love of a y
 oung man for his home town in ofÂ Dublin in Out of Here.Â \n\nÂ \n\nIr
 ish Film NY is back with its fourth annual slate of top-notch contempo
 rary Irish cinema, all films screening at the Cantor Film Center ofÂ N
 YU on E. 8th St. Oct 3rd - 6th.\n\nTickets:Â IIBN discount $10 tickets
 . Code: IIBNÂ www.irishfilmnyc.com/tickets/\n\n\n\nFor more informatio
 n visit https://thewildgeese.irish/events/irish-film-new-york-2014
DTSTART:20141003T230000Z
DTEND:20141006T000000Z
CATEGORIES:film, festival
LOCATION:Cantor Film Center of NYU E. 8th St. Oct 3rd - 6th.
WEBSITE:http://www.irishfilmnyc.com
URL:http://www.irishfilmnyc.com
CONTACT:
ORGANIZER;CN="Niall McKay":https://thewildgeese.irish/profile/NiallMcK
 ay
ATTACH;FMTTYPE="image/jpeg":http://storage.ning.com/topology/rest/1.0/
 file/get/122495584?profile=original
ATTENDEE;ROLE=REQ-PARTICIPANT;PARTSTAT=ACCEPTED;RSVP=TRUE;CN="Niall Mc
 Kay":https://thewildgeese.irish/profile/NiallMcKay
END:VEVENT
END:VCALENDAR
