BEGIN:VCALENDAR
PRODID:NingEventWidget-v1
VERSION:2.0
METHOD:PUBLISH
BEGIN:VEVENT
UID:6442157:Event:207267
DTSTAMP:20260424T024659Z
SUMMARY:Irish Christmas Traditions Family Day
DESCRIPTION:Irish Christmas Traditions Family Day\nDecember 17 1PM-3PM
 \nAn Old-Fashioned Traditional Irish Christmas! Open House Saturday D
 ecember 17, 1-3 PM: We invite you to experience a very special presen
 tation of \"A Traditional Irish Christmas\" when the Museum will highl
 ight customs and decorations for which the Irish have become known. Le
 arn about the traditional \"Candle in the Window,\" \"The Laden Table,
 \" \"The Ring of Holly,\" \"Handsel Monday,\" \"Women's Little Christ
 mas,\" and the traditional Irish greeting. Join us for arts and crafts
 , storytelling, and more. Albany street parking is free on the weekend
 s.\n\nFor more information visit https://thewildgeese.irish/events/iri
 sh-christmas-traditions-family-day
DTSTART:20161217T190000Z
DTEND:20161217T210000Z
CATEGORIES:family, day
LOCATION:Albany, NY
WEBSITE:https://irish-us.org/
URL:https://irish-us.org/
CONTACT:(518) 427-1916
ORGANIZER:info@irish-us.org
ATTACH;FMTTYPE="image/jpeg":http://storage.ning.com/topology/rest/1.0/
 file/get/122516622?profile=original
ATTENDEE;ROLE=REQ-PARTICIPANT;PARTSTAT=ACCEPTED;RSVP=TRUE;CN="Nollaig 
 2016":https://thewildgeese.irish/profile/BelindaEvangelista
END:VEVENT
END:VCALENDAR
