BEGIN:VCALENDAR
PRODID:NingEventWidget-v1
VERSION:2.0
METHOD:PUBLISH
BEGIN:VEVENT
UID:6442157:Event:185082
DTSTAMP:20260425T084018Z
SUMMARY:Irish Business Organization of New York
DESCRIPTION:IBO Evening Meeting will take place on Wednesday, March 9t
 h.  \nGuest Speaker: Loretta Brennan Glucksman - Philanthropist\nPlea
 se register via our website\nhttp://www.ibonewyork.org/event-2146189\n
 \nFor more information visit https://thewildgeese.irish/events/irish-b
 usiness-organizationf-of-new-york
DTSTART:20160310T003000Z
DTEND:20160310T030000Z
CATEGORIES:networking
LOCATION:Irish Consulate
WEBSITE:https://www.dfa.ie/irish-consulate/newyork/
URL:https://www.dfa.ie/irish-consulate/newyork/
CONTACT:212-570-8118
ORGANIZER:Irish Business Organization of New York
ATTACH;FMTTYPE="image/jpeg":http://storage.ning.com/topology/rest/1.0/
 file/get/122512565?profile=original
ATTENDEE;ROLE=REQ-PARTICIPANT;PARTSTAT=ACCEPTED;RSVP=TRUE;CN="William 
 Lee":https://thewildgeese.irish/profile/WilliamLee
ATTENDEE;ROLE=REQ-PARTICIPANT;PARTSTAT=TENTATIVE;RSVP=TRUE;CN="Gerry R
 egan":https://thewildgeese.irish/profile/ger_regan
END:VEVENT
END:VCALENDAR
