BEGIN:VCALENDAR
PRODID:NingEventWidget-v1
VERSION:2.0
METHOD:PUBLISH
BEGIN:VEVENT
UID:6442157:Event:185162
DTSTAMP:20260425T070050Z
SUMMARY:Irish American Society of Nassau, Suffolk, & Queens 66th Annua
 l St Patrick's Parade
DESCRIPTION:Join the Irish American Society of Nassau, Suffolk, and Qu
 eens for their 66th Annual St Patrick's Day Parade in Mineola, NY.  10
  AM - Mass at the Society Center, 297 Willis Ave, Mineola, NY 12 Noon 
 - Marchers Line Up at the Court House Drive, Garden City. Parade to st
 art shortly afterwards 2 PM - Center opens for Post Parade Party. $5 C
 over. Food, Fun, Music, & Dancing. Cash Bar and Kitchen This event is 
 chaired by the Parade Committee Music by: Peter McKiernan & Jimmy Lavi
 n\n\nFor more information visit https://thewildgeese.irish/events/iris
 h-american-society-of-nassau-suffolk-queens-66th-annual-st
DTSTART:20160306T160000Z
DTEND:20160307T010000Z
CATEGORIES:parade
LOCATION:Irish American Society of Nassau, Suffolk, and Queens
WEBSITE:http://www.irishamericansoc.com/
URL:http://www.irishamericansoc.com/
CONTACT:516-746-9392
ORGANIZER:Irish American Society of Nassau, Suffolk, & Queens
ATTACH;FMTTYPE="image/jpeg":http://storage.ning.com/topology/rest/1.0/
 file/get/122512622?profile=original
ATTENDEE;ROLE=REQ-PARTICIPANT;PARTSTAT=ACCEPTED;RSVP=TRUE;CN="William 
 Lee":https://thewildgeese.irish/profile/WilliamLee
ATTENDEE;ROLE=REQ-PARTICIPANT;PARTSTAT=TENTATIVE;RSVP=TRUE;CN="Gerry R
 egan":https://thewildgeese.irish/profile/ger_regan
END:VEVENT
END:VCALENDAR
