BEGIN:VCALENDAR
PRODID:NingEventWidget-v1
VERSION:2.0
METHOD:PUBLISH
BEGIN:VEVENT
UID:6442157:Event:208064
DTSTAMP:20260424T044540Z
SUMMARY:IMPORTANT IRISH ART & IRISH HISTORICAL DOCUMENTS
DESCRIPTION:Auction\nIMPORTANT IRISH ART & IRISH HISTORICAL DOCUMENTS\
 n\nFor more information visit https://thewildgeese.irish/events/import
 ant-irish-art-irish-historical-documents
DTSTART:20161207T060000Z
DTEND:20161208T055900Z
CATEGORIES:auction
LOCATION:Dublin, Ireland
WEBSITE:https://www.adams.ie
URL:https://www.adams.ie
CONTACT:353 1 676 0261
ORGANIZER:Adams
ATTACH;FMTTYPE="image/jpeg":
ATTENDEE;ROLE=REQ-PARTICIPANT;PARTSTAT=ACCEPTED;RSVP=TRUE;CN="Nollaig 
 2016":https://thewildgeese.irish/profile/BelindaEvangelista
END:VEVENT
END:VCALENDAR
