BEGIN:VCALENDAR
PRODID:NingEventWidget-v1
VERSION:2.0
METHOD:PUBLISH
BEGIN:VEVENT
UID:6442157:Event:173092
DTSTAMP:20260420T055727Z
SUMMARY:IBO November Evening Meeting
DESCRIPTION:NOVEMBER 2015:\nIBO Evening Meeting will take place on Wed
 nesday, November 11th.Â  At this meeting, we will be holding our elect
 ions for the 2016 Executive Board.\nGuest Speakers: Representatives fr
 om the Irish Consulate of New York, Bord Bia, Tourism Ireland, Enterpr
 ise Ireland, and IDA Ireland will be speaking about their work here in
  New York.\nMembers andÂ first time non-membersÂ may attend free of ch
 arge.\nÂ \nNon-members: $20\nRegistration open to Members and Guests.Â
  \nTo register, please visit the event page on our website.\n\n\n\nhtt
 p://www.ibonewyork.org/event-1993669\n\n\n\n\n\nFor more information v
 isit https://thewildgeese.irish/events/ibo-november-evening-meeting
DTSTART:20151112T003000Z
DTEND:20151112T023000Z
CATEGORIES:"networking event"
LOCATION:Scandinavia House
WEBSITE:http://www.scandinaviahouse.org/
URL:http://www.scandinaviahouse.org/
CONTACT:212-750-8118
ORGANIZER:Irish Business Organization of New York
ATTACH;FMTTYPE="image/jpeg":http://storage.ning.com/topology/rest/1.0/
 file/get/122509633?profile=original
ATTENDEE;ROLE=REQ-PARTICIPANT;PARTSTAT=ACCEPTED;RSVP=TRUE;CN="William 
 Lee":https://thewildgeese.irish/profile/WilliamLee
END:VEVENT
END:VCALENDAR
