BEGIN:VCALENDAR
PRODID:NingEventWidget-v1
VERSION:2.0
METHOD:PUBLISH
BEGIN:VEVENT
UID:6442157:Event:75437
DTSTAMP:20260423T215021Z
SUMMARY:Hang-Out in The Virtual Síbín with Cormac O'Malley
DESCRIPTION:Cormac O'Malley is the son of Ernie O'Malley, who died in 
 1957.  Along with Mercier Press, he has published \"The Men Will Talk
  to Me: Kerry Interviews by Ernie O'Malley.\"\nFrom Easter 1916 until 
 the bitter end of the Civil War, Kerry was embroiled in bloody conflic
 t. Now, for the first time in published form, many of the county's mai
 n participants in the struggle tell their own stories. These were narr
 ated to Ernie O'Malley in the late 1940s and early 1950s. During their
  lifetimes, these men were reluctant to recount their exploits, even t
 o their own families, but were willing to speak to Ernie O'Malley, a r
 espected and legendary IRA leader during the War of Independence and C
 ivil War.\nCormac will be joining us in The Síbín with his cousin (a
 nd fellow member of The Wild Geese), Lisa Fortin Jackson, to discuss t
 he book and the remarkable life of his father.\n\n\nFor more informati
 on visit https://thewildgeese.irish/events/hang-out-in-the-virtual-sib
 in-with-author-cormac-o-malley
DTSTART:20140208T210000Z
DTEND:20140208T220000Z
CATEGORIES:live, broadcast, interview
LOCATION:TheWildGeese.com
WEBSITE:http://www.TheWildGeese.com
URL:http://www.TheWildGeese.com
CONTACT:
ORGANIZER;CN="The Wild Geese":https://thewildgeese.irish/profile/TheWi
 ldGeese
ATTACH;FMTTYPE="image/jpeg":http://storage.ning.com/topology/rest/1.0/
 file/get/122486871?profile=original
ATTENDEE;ROLE=REQ-PARTICIPANT;PARTSTAT=ACCEPTED;RSVP=TRUE;CN="The Wild
  Geese":https://thewildgeese.irish/profile/TheWildGeese
END:VEVENT
END:VCALENDAR
